BEGIN:VCALENDAR
VERSION:2.0
PRODID:-//Rescue Training International - ECPv6.15.20//NONSGML v1.0//EN
CALSCALE:GREGORIAN
METHOD:PUBLISH
X-ORIGINAL-URL:https://www.rescueti.com
X-WR-CALDESC:Events for Rescue Training International
REFRESH-INTERVAL;VALUE=DURATION:PT1H
X-Robots-Tag:noindex
X-PUBLISHED-TTL:PT1H
BEGIN:VTIMEZONE
TZID:America/New_York
BEGIN:DAYLIGHT
TZOFFSETFROM:-0500
TZOFFSETTO:-0400
TZNAME:EDT
DTSTART:20140309T070000
END:DAYLIGHT
BEGIN:STANDARD
TZOFFSETFROM:-0400
TZOFFSETTO:-0500
TZNAME:EST
DTSTART:20141102T060000
END:STANDARD
BEGIN:DAYLIGHT
TZOFFSETFROM:-0500
TZOFFSETTO:-0400
TZNAME:EDT
DTSTART:20150308T070000
END:DAYLIGHT
BEGIN:STANDARD
TZOFFSETFROM:-0400
TZOFFSETTO:-0500
TZNAME:EST
DTSTART:20151101T060000
END:STANDARD
BEGIN:DAYLIGHT
TZOFFSETFROM:-0500
TZOFFSETTO:-0400
TZNAME:EDT
DTSTART:20160313T070000
END:DAYLIGHT
BEGIN:STANDARD
TZOFFSETFROM:-0400
TZOFFSETTO:-0500
TZNAME:EST
DTSTART:20161106T060000
END:STANDARD
BEGIN:DAYLIGHT
TZOFFSETFROM:-0500
TZOFFSETTO:-0400
TZNAME:EDT
DTSTART:20170312T070000
END:DAYLIGHT
BEGIN:STANDARD
TZOFFSETFROM:-0400
TZOFFSETTO:-0500
TZNAME:EST
DTSTART:20171105T060000
END:STANDARD
BEGIN:DAYLIGHT
TZOFFSETFROM:-0500
TZOFFSETTO:-0400
TZNAME:EDT
DTSTART:20180311T070000
END:DAYLIGHT
BEGIN:STANDARD
TZOFFSETFROM:-0400
TZOFFSETTO:-0500
TZNAME:EST
DTSTART:20181104T060000
END:STANDARD
END:VTIMEZONE
BEGIN:VEVENT
DTSTART;VALUE=DATE:20170707
DTEND;VALUE=DATE:20170710
DTSTAMP:20260424T220326
CREATED:20141011T092416Z
LAST-MODIFIED:20170522T131948Z
UID:559-1499385600-1499644799@www.rescueti.com
SUMMARY:LAKE PERSONAL WATER CRAFT RESCUE BOAT OPERATOR 1 (LPWC 1) Saratoga Springs\, Utah
DESCRIPTION:Private modified course \nClass size: Limited to 3 per available boat \nPreregistration Required: (10% late fee less than 14 days before class) \nCOURSE DESCRIPTION: 24 hour course covering operations\, safety\, boat construction and orientation\, maintenance and care\, start up procedures\, boat crew assignments\, equipment\, command and control driving skills\, rescue and recovery concepts including along side\, throw lines\, drag lines\, deployed swimmer and advanced tethered swimmer and rescue sled deployment and recovery\, search function and team rescue concepts. Boat handling skills to bring the boat and crew within safe approach under stressful situations. \nCOURSE FORMAT: The LPWC 1 course is normally taught in a two day format. 0800-1700. There is no night training in the LPWC 1 course. Day 1 morning lecture and boat orientation\, mechanics and prepping for launch. Day 1 afternoon is in  water driving and intro to skills. Day 2 is all skills day in water. *** Special modified class will add a third day of search and rescue skills*** \nThe person completing this course will have the knowledge and skills to operate and command a rescue boat in flood and swiftwater situations. They will have crew\, operating\, search and rescue skills needed to be an effective boat captain or crew member. \nPrerequisite:  None \nSTANDARDS: This course meets and exceeds Industry Standards and NFPA  requirements. \nPPE: Each student is required to provide their own Personal Protective Gear: \n\n “USCG” approved Type III or V PFD (Type V preferred)\nWet suit boots with hard sole bottom or tennis shoes\nWater or vertical rescue helmet w/ waterproof light\nFull wet or dry suit as weather conditions dictate\nWater or abrasion protective gloves\n3 seat PWC for up to 3 students.\n\nRENTAL GEAR: RTI has a limited number of gear sets of PFD and helmet for rent. First come basis. \nPHYSICAL FITNESS REQUIREMENTS: RTI field courses are strenuous in nature. RTI recommends the student be in good physical and mental condition. \nAdditional course information will be emailed to each student registered.
URL:https://www.rescueti.com/course/2017-lake-pwc-rbo1/
LOCATION:Saratoga Springs\, Saratoga Springs\, UT\, USA
CATEGORIES:Boat Rescue,ICS,Lake,PWC,Search
END:VEVENT
BEGIN:VEVENT
DTSTART;VALUE=DATE:20150602
DTEND;VALUE=DATE:20150605
DTSTAMP:20260424T220326
CREATED:20141011T092416Z
LAST-MODIFIED:20150507T202910Z
UID:727-1433203200-1433462399@www.rescueti.com
SUMMARY:LAKE PERSONAL WATER CRAFT RESCUE BOAT OPERATOR 1 (LPWC 1) Saratoga Springs\, Utah
DESCRIPTION:Private modified course \nClass size: Limited to 3 per available boat \nPreregistration Required: (10% late fee less than 14 days before class) \nCOURSE DESCRIPTION: 24 hour course covering operations\, safety\, boat construction and orientation\, maintenance and care\, start up procedures\, boat crew assignments\, equipment\, command and control driving skills\, rescue and recovery concepts including along side\, throw lines\, drag lines\, deployed swimmer and advanced tethered swimmer and rescue sled deployment and recovery\, search function and team rescue concepts. Boat handling skills to bring the boat and crew within safe approach under stressful situations. \nCOURSE FORMAT: The LPWC 1 course is normally taught in a two day format. 0800-1700. There is no night training in the LPWC 1 course. Day 1 morning lecture and boat orientation\, mechanics and prepping for launch. Day 1 afternoon is in  water driving and intro to skills. Day 2 is all skills day in water. *** Special modified class will add a third day of search and rescue skills*** \nThe person completing this course will have the knowledge and skills to operate and command a rescue boat in flood and swiftwater situations. They will have crew\, operating\, search and rescue skills needed to be an effective boat captain or crew member. \nPrerequisite:  None \nSTANDARDS: This course meets and exceeds Industry Standards and NFPA  requirements. \nPPE: Each student is required to provide their own Personal Protective Gear: \n\n “USCG” approved Type III or V PFD (Type V preferred)\nWet suit boots with hard sole bottom or tennis shoes\nWater or vertical rescue helmet w/ waterproof light\nFull wet or dry suit as weather conditions dictate\nWater or abrasion protective gloves\n3 seat PWC for up to 3 students.\n\nRENTAL GEAR: RTI has a limited number of gear sets of PFD and helmet for rent. First come basis. \nPHYSICAL FITNESS REQUIREMENTS: RTI field courses are strenuous in nature. RTI recommends the student be in good physical and mental condition. \nAdditional course information will be emailed to each student registered.
URL:https://www.rescueti.com/course/lake-pwc-rbo1-3/
LOCATION:Saratoga Springs\, Saratoga Springs\, UT\, USA
CATEGORIES:Boat Rescue,ICS,Lake,PWC,Search
END:VEVENT
END:VCALENDAR